BEGIN:VCALENDAR
VERSION:2.0
PRODID:-//State College Homebrew Club - ECPv6.9.0//NONSGML v1.0//EN
CALSCALE:GREGORIAN
METHOD:PUBLISH
X-ORIGINAL-URL:https://www.statecollegehomebrewclub.com
X-WR-CALDESC:Events for State College Homebrew Club
REFRESH-INTERVAL;VALUE=DURATION:PT1H
X-Robots-Tag:noindex
X-PUBLISHED-TTL:PT1H
BEGIN:VTIMEZONE
TZID:America/New_York
BEGIN:DAYLIGHT
TZOFFSETFROM:-0500
TZOFFSETTO:-0400
TZNAME:EDT
DTSTART:20220313T070000
END:DAYLIGHT
BEGIN:STANDARD
TZOFFSETFROM:-0400
TZOFFSETTO:-0500
TZNAME:EST
DTSTART:20221106T060000
END:STANDARD
BEGIN:DAYLIGHT
TZOFFSETFROM:-0500
TZOFFSETTO:-0400
TZNAME:EDT
DTSTART:20230312T070000
END:DAYLIGHT
BEGIN:STANDARD
TZOFFSETFROM:-0400
TZOFFSETTO:-0500
TZNAME:EST
DTSTART:20231105T060000
END:STANDARD
BEGIN:DAYLIGHT
TZOFFSETFROM:-0500
TZOFFSETTO:-0400
TZNAME:EDT
DTSTART:20240310T070000
END:DAYLIGHT
BEGIN:STANDARD
TZOFFSETFROM:-0400
TZOFFSETTO:-0500
TZNAME:EST
DTSTART:20241103T060000
END:STANDARD
TZID:America/Halifax
BEGIN:DAYLIGHT
TZOFFSETFROM:-0400
TZOFFSETTO:-0300
TZNAME:ADT
DTSTART:20230312T060000
END:DAYLIGHT
BEGIN:STANDARD
TZOFFSETFROM:-0300
TZOFFSETTO:-0400
TZNAME:AST
DTSTART:20231105T050000
END:STANDARD
END:VTIMEZONE
BEGIN:VEVENT
DTSTART;TZID=America/New_York:20241019T160000
DTEND;TZID=America/New_York:20241019T200000
DTSTAMP:20260420T060843
CREATED:20240212T163659Z
LAST-MODIFIED:20240212T163659Z
UID:554-1729353600-1729368000@www.statecollegehomebrewclub.com
SUMMARY:Brews in the Barn
DESCRIPTION:
URL:https://www.statecollegehomebrewclub.com/event/brews-in-the-barn-2/
LOCATION:Millbrook Playhouse\, 258 Country Club Lane\, Mill Hall\, PA\, 17751
CATEGORIES:Pouring Event
END:VEVENT
BEGIN:VEVENT
DTSTART;TZID=America/New_York:20240914T120000
DTEND;TZID=America/New_York:20240914T170000
DTSTAMP:20260420T060843
CREATED:20240212T163537Z
LAST-MODIFIED:20240212T163712Z
UID:551-1726315200-1726333200@www.statecollegehomebrewclub.com
SUMMARY:Camp K Wine & Beer Fest
DESCRIPTION:
URL:https://www.statecollegehomebrewclub.com/event/camp-k-wine-beer-fest/
LOCATION:Camp K\, 225 Thomas Dam Rd\, Millmont\, PA
CATEGORIES:Pouring Event
END:VEVENT
BEGIN:VEVENT
DTSTART;TZID=America/New_York:20240720T140000
DTEND;TZID=America/New_York:20240720T180000
DTSTAMP:20260420T060843
CREATED:20240212T163352Z
LAST-MODIFIED:20240212T163352Z
UID:548-1721484000-1721498400@www.statecollegehomebrewclub.com
SUMMARY:Selinsgrove Beer & Wine Festival
DESCRIPTION:
URL:https://www.statecollegehomebrewclub.com/event/selinsgrove-beer-wine-festival/
LOCATION:University Avenue between Broad & W. Pine Streets Selinsgrove\, PA 17870\, University Avenue between Broad & W. Pine Streets\, Selinsgrove\, PA\, 17870
CATEGORIES:Pouring Event
END:VEVENT
BEGIN:VEVENT
DTSTART;TZID=America/New_York:20240420T130000
DTEND;TZID=America/New_York:20240420T170000
DTSTAMP:20260420T060843
CREATED:20240212T162754Z
LAST-MODIFIED:20240212T162754Z
UID:546-1713618000-1713632400@www.statecollegehomebrewclub.com
SUMMARY:PA Flavor
DESCRIPTION:
URL:https://www.statecollegehomebrewclub.com/event/pa-flavor-2/
LOCATION:Pa State Farm Show Complex\, Harrisburg\, PA\, US
CATEGORIES:Pouring Event
END:VEVENT
BEGIN:VEVENT
DTSTART;TZID=America/Halifax:20230415T130000
DTEND;TZID=America/Halifax:20230415T170000
DTSTAMP:20260420T060843
CREATED:20230201T170257Z
LAST-MODIFIED:20230201T174221Z
UID:402-1681563600-1681578000@www.statecollegehomebrewclub.com
SUMMARY:PA Flavor
DESCRIPTION:Our club will be pouring at this great event where you can sample beers and a variety of foods. We are looking for Club members to provide beer and/or to pour at our booth. \n 
URL:https://www.statecollegehomebrewclub.com/event/pa-flavor/
LOCATION:Pa State Farm Show Complex\, Harrisburg\, PA\, US
CATEGORIES:Pouring Event
ATTACH;FMTTYPE=image/jpeg:https://www.statecollegehomebrewclub.com/wp-content/uploads/2023/02/402_image_324582958_1354234465391156_3190901343381069540_n.jpg
END:VEVENT
BEGIN:VEVENT
DTSTART;TZID=America/New_York:20221105T160000
DTEND;TZID=America/New_York:20221105T200000
DTSTAMP:20260420T060843
CREATED:20221013T212940Z
LAST-MODIFIED:20221013T213008Z
UID:309-1667664000-1667678400@www.statecollegehomebrewclub.com
SUMMARY:Brews in the Barn
DESCRIPTION:Visit event website to purchase tickets.
URL:https://www.statecollegehomebrewclub.com/event/brews-in-the-barn/
LOCATION:Millbrook Playhouse\, 258 Country Club Lane\, Mill Hall\, PA\, 17751
CATEGORIES:Pouring Event
ORGANIZER;CN="Phil Gowling":MAILTO:noreply@facebookmail_com
END:VEVENT
END:VCALENDAR